2504.6885428487
0.0000000000
0.0000000000
-5012.2415260037
-20036255.9985178225
20046459.9832516313
