2445.9849051256
0.0000000000
0.0000000000
-2447.3835576190
-20036285.3503366858
20047742.4122358225
