1669.7923618991
0.0000000000
0.0000000000
-3341.4943506691
-20036673.4466082975
20047295.3568392955
