5009.3770856973
0.0000000000
0.0000000000
-10024.4830520073
-20035003.6542463973
20043953.8624886274
