4891.9698102513
0.0000000000
0.0000000000
-4894.7671152379
-20035062.3578841202
20046518.7204570137
